BEGIN:VCALENDAR
VERSION:2.0
PRODID:-//pretix//pretix.eu//
BEGIN:VEVENT
UID:pretix-rheinwerk-SomSch25-0@tickets.rheinwerk.de
DTSTART;VALUE=DATE:20250501
DTEND;VALUE=DATE:20250830
DESCRIPTION:Tickets: https://tickets.rheinwerk.de/SomSch25/\nVeranstalter: 
 Rheinwerk Verlag GmbH
DTSTAMP:20260422T004417Z
LOCATION:Online
SUMMARY:Heidelberger Sommerschule der Fotografie 2025
END:VEVENT
END:VCALENDAR
