BEGIN:VCALENDAR
VERSION:2.0
PRODID:-//pretix//pretix.eu//
BEGIN:VTIMEZONE
TZID:Europe/Berlin
BEGIN:STANDARD
DTSTART:20001029T040000
RRULE:FREQ=YEARLY;BYDAY=-1SU;BYMONTH=10
TZNAME:CET
TZOFFSETFROM:+0200
TZOFFSETTO:+0100
END:STANDARD
BEGIN:DAYLIGHT
DTSTART:20000326T030000
RRULE:FREQ=YEARLY;BYDAY=-1SU;BYMONTH=3
TZNAME:CEST
TZOFFSETFROM:+0100
TZOFFSETTO:+0200
END:DAYLIGHT
END:VTIMEZONE
BEGIN:VEVENT
UID:pretix-rheinwerk-W169-0@tickets.rheinwerk.de
DTSTART;TZID=Europe/Berlin:20250911T180000
DTEND;TZID=Europe/Berlin:20250925T200000
DESCRIPTION:Tickets: https://tickets.rheinwerk.de/W169/\nVeranstalter: Rhei
 nwerk Verlag GmbH
DTSTAMP:20260421T230131Z
LOCATION:Online
SUMMARY:Online-Kurs: Kreativ und effizient mit KI: Texten\, Bilder erstelle
 n und Recherche
END:VEVENT
END:VCALENDAR
