BEGIN:VCALENDAR
VERSION:2.0
PRODID:-//pretix//pretix.eu//
BEGIN:VTIMEZONE
TZID:Europe/Berlin
BEGIN:STANDARD
DTSTART:20001029T040000
RRULE:FREQ=YEARLY;BYDAY=-1SU;BYMONTH=10
TZNAME:CET
TZOFFSETFROM:+0200
TZOFFSETTO:+0100
END:STANDARD
BEGIN:DAYLIGHT
DTSTART:20000326T030000
RRULE:FREQ=YEARLY;BYDAY=-1SU;BYMONTH=3
TZNAME:CEST
TZOFFSETFROM:+0100
TZOFFSETTO:+0200
END:DAYLIGHT
END:VTIMEZONE
BEGIN:VEVENT
UID:pretix-rheinwerk-k015-0@tickets.rheinwerk.de
DTSTART;TZID=Europe/Berlin:20240424T090000
DTEND;TZID=Europe/Berlin:20240426T170000
DESCRIPTION:Tickets: https://tickets.rheinwerk.de/k015/\nEinlass: 24.04.202
 4 08:30\nVeranstalter: Rheinwerk Verlag GmbH
DTSTAMP:20260421T134659Z
LOCATION:Jugendherberge Düsseldorf\, Düsseldorfer Str. 1\, 40545 Düsseld
 orf
SUMMARY:Rheinwerk Digital Marketing Camp 2024
END:VEVENT
END:VCALENDAR
